BEGIN:VCALENDAR
VERSION:2.0
PRODID:-//Newark CAMRA - ECPv6.15.20//NONSGML v1.0//EN
CALSCALE:GREGORIAN
METHOD:PUBLISH
X-WR-CALNAME:Newark CAMRA
X-ORIGINAL-URL:https://newark.camra.org.uk
X-WR-CALDESC:Events for Newark CAMRA
REFRESH-INTERVAL;VALUE=DURATION:PT1H
X-Robots-Tag:noindex
X-PUBLISHED-TTL:PT1H
BEGIN:VTIMEZONE
TZID:Europe/London
BEGIN:DAYLIGHT
TZOFFSETFROM:+0000
TZOFFSETTO:+0100
TZNAME:BST
DTSTART:20250330T010000
END:DAYLIGHT
BEGIN:STANDARD
TZOFFSETFROM:+0100
TZOFFSETTO:+0000
TZNAME:GMT
DTSTART:20251026T010000
END:STANDARD
BEGIN:DAYLIGHT
TZOFFSETFROM:+0000
TZOFFSETTO:+0100
TZNAME:BST
DTSTART:20260329T010000
END:DAYLIGHT
BEGIN:STANDARD
TZOFFSETFROM:+0100
TZOFFSETTO:+0000
TZNAME:GMT
DTSTART:20261025T010000
END:STANDARD
BEGIN:DAYLIGHT
TZOFFSETFROM:+0000
TZOFFSETTO:+0100
TZNAME:BST
DTSTART:20270328T010000
END:DAYLIGHT
BEGIN:STANDARD
TZOFFSETFROM:+0100
TZOFFSETTO:+0000
TZNAME:GMT
DTSTART:20271031T010000
END:STANDARD
END:VTIMEZONE
BEGIN:VEVENT
DTSTART;TZID=Europe/London:20260613T130000
DTEND;TZID=Europe/London:20260613T150000
DTSTAMP:20260424T213008
CREATED:20260219T133649Z
LAST-MODIFIED:20260408T130147Z
UID:645-1781355600-1781362800@newark.camra.org.uk
SUMMARY:Branch Meeting - Crown\, Normanton-on-Trent
DESCRIPTION:Branch Meeting – Crown\, Normanton on Trent @ 1pm. Those who wish to travel by public transport from Newark\, can take the Marshalls 38 bus from the bus station at 11.55 – returning at either 3.47 pm or 5.57 pm (please double check bus times prior to setting off).
URL:https://newark.camra.org.uk/event/branch-meeting-crown-normanton-on-trent/
LOCATION:Crown\, South Street\, Normanton-on-Trent\, NG23 6RQ
CATEGORIES:Branch Meeting
END:VEVENT
END:VCALENDAR